BEGIN:VCALENDAR
VERSION:2.0
PRODID:icalendar-ruby
CALSCALE:GREGORIAN
BEGIN:VEVENT
DTSTAMP:20260420T140931Z
UID:PFESKg
DTSTART;VALUE=DATE:20170601
DTEND;VALUE=DATE:20170604
CLASS:PUBLIC
CREATED:20170308T113356
DESCRIPTION: Feral Vector 2018: https://ti.to/ympt/feral-vector-2018 - If i
 t's past the 19th April 2018\, and you missed out on early tickets because
  of the link we got wrong in an email\, try this discount link\, valid fro
 m when late tickets go on sale (Apr 20th)\, until the 24th: https://ti.to/
 ympt/feral-vector-2018/discount/SOZABOUTTHAT \n
LAST-MODIFIED:20190501T141719
LOCATION:Hebden Bridge
ORGANIZER:mailto:hello@feral-vector.com
SUMMARY:Feral Vector 2017
URL;VALUE=URI:https://ti.to/ympt/feral-vector-2017
URL;VALUE=URI:https://ti.to/ympt/feral-vector-2017
END:VEVENT
END:VCALENDAR
