BEGIN:VCALENDAR
VERSION:2.0
PRODID:icalendar-ruby
CALSCALE:GREGORIAN
BEGIN:VEVENT
DTSTAMP:20260421T134345Z
UID:rd1twg
DTSTART;VALUE=DATE:20140828
DTEND;VALUE=DATE:20140830
CLASS:PUBLIC
CREATED:20140227T014611
DESCRIPTION: A gathering for creative women who desire to ignite passion an
 d bring goodness to the world through everyday living. \n
LAST-MODIFIED:20150102T181943
LOCATION:Los Angeles\, CA
ORGANIZER:mailto:heygirl@yellowconference.com
SUMMARY:The Yellow Conference
URL;VALUE=URI:https://ti.to/yellowconference/the-yellow-conference
URL;VALUE=URI:https://ti.to/yellowconference/the-yellow-conference
END:VEVENT
END:VCALENDAR
