BEGIN:VCALENDAR
VERSION:2.0
PRODID:icalendar-ruby
CALSCALE:GREGORIAN
BEGIN:VEVENT
DTSTAMP:20260421T120530Z
UID:NgXDtA
DTSTART;VALUE=DATE:20150528
DTEND;VALUE=DATE:20150529
CLASS:PUBLIC
CREATED:20150430T193817
DESCRIPTION: Creativity and efficiency don’t have to be mutually exclusiv
 e. When we’re living an efficient life\, we  have more time and energy t
 o be CREATIVE and create winning ideas. Join us as professional organizer 
 Beth Zeigler leads us through tips and tools on email decluttering\, time 
 management\, and scheduling your day. \n
LAST-MODIFIED:20231212T102856
LOCATION:West Elm Santa Monica
ORGANIZER:mailto:heygirl@yellowconference.com
SUMMARY:May Bloom Gathering
URL;VALUE=URI:https://ti.to/yellowconference/may-bloom-gathering
URL;VALUE=URI:https://ti.to/yellowconference/may-bloom-gathering
END:VEVENT
END:VCALENDAR
