BEGIN:VCALENDAR
VERSION:2.0
PRODID:icalendar-ruby
CALSCALE:GREGORIAN
BEGIN:VEVENT
DTSTAMP:20260421T120723Z
UID:Ay36uQ
DTSTART;VALUE=DATE:20150322
DTEND;VALUE=DATE:20150323
CLASS:PUBLIC
CREATED:20150301T080808
LAST-MODIFIED:20231212T102856
LOCATION:Beautilitarian HQ
ORGANIZER:mailto:heygirl@yellowconference.com
SUMMARY:March Bloom Gathering
URL;VALUE=URI:https://ti.to/yellowconference/march-bloom-gathering
URL;VALUE=URI:https://ti.to/yellowconference/march-bloom-gathering
END:VEVENT
END:VCALENDAR
