BEGIN:VCALENDAR
VERSION:2.0
PRODID:icalendar-ruby
CALSCALE:GREGORIAN
BEGIN:VEVENT
DTSTAMP:20260421T120730Z
UID:GPEAjg
DTSTART;VALUE=DATE:20150614
DTEND;VALUE=DATE:20150615
CLASS:PUBLIC
CREATED:20150610T060847
DESCRIPTION: Join us as we gather together with health and wellness expert\
 , Sophie Jaffee to hear about how to keep our bodies healthy inside and ou
 t + A YOGA SESSION! Bring those mats! \n
LAST-MODIFIED:20231212T102856
LOCATION:
ORGANIZER:mailto:heygirl@yellowconference.com
SUMMARY:June Bloom Gathering
URL;VALUE=URI:https://ti.to/yellowconference/june-bloom-gathering
URL;VALUE=URI:https://ti.to/yellowconference/june-bloom-gathering
END:VEVENT
END:VCALENDAR
