BEGIN:VCALENDAR
VERSION:2.0
PRODID:icalendar-ruby
CALSCALE:GREGORIAN
BEGIN:VEVENT
DTSTAMP:20260420T084005Z
UID:5CHtGQ
DTSTART;VALUE=DATE:20150723
DTEND;VALUE=DATE:20150724
CLASS:PUBLIC
CREATED:20150701T054656
DESCRIPTION: Come hang out and hear from teen foster care advocate and foun
 der of the Teen Leadership Foundation\, Lisa  Castetter as she tells us he
 r story and gives us her advice on running a for-good business. 7pm / Down
 town Fullerton \n
LAST-MODIFIED:20231212T102856
LOCATION:Share & Do Good
ORGANIZER:mailto:heygirl@yellowconference.com
SUMMARY:July Bloom Gathering
URL;VALUE=URI:https://ti.to/yellowconference/july-bloom-gathering
URL;VALUE=URI:https://ti.to/yellowconference/july-bloom-gathering
END:VEVENT
END:VCALENDAR
