BEGIN:VCALENDAR
VERSION:2.0
PRODID:icalendar-ruby
CALSCALE:GREGORIAN
BEGIN:VEVENT
DTSTAMP:20260421T121042Z
UID:LT2VIQ
DTSTART;VALUE=DATE:20150508
DTEND;VALUE=DATE:20150509
CLASS:PUBLIC
CREATED:20150504T155621
DESCRIPTION: We are Free to Fail! Join us as we celebrate the end of our Ki
 ckstarter\, and talk about taking risks and celebrating them. \n
LAST-MODIFIED:20231212T102856
LOCATION:Beautilitarian HQ\, 120 E. 8th St. Suite 401 Los Angeles CA 90014
ORGANIZER:mailto:heygirl@yellowconference.com
SUMMARY:Free to Fail Party!
URL;VALUE=URI:https://ti.to/yellowconference/free-to-fail-party
URL;VALUE=URI:https://ti.to/yellowconference/free-to-fail-party
END:VEVENT
END:VCALENDAR
