BEGIN:VCALENDAR
VERSION:2.0
PRODID:icalendar-ruby
CALSCALE:GREGORIAN
BEGIN:VEVENT
DTSTAMP:20260421T121025Z
UID:aLnTmg
DTSTART;VALUE=DATE:20150402
DTEND;VALUE=DATE:20150403
CLASS:PUBLIC
CREATED:20150312T070605
DESCRIPTION: Our Kickstarter Campaign is launching at the beginning of Apri
 l! We want to celebrate with you. \n\n HUGE thanks to our sponsors: \n\n \
 n  Bumble Boutique - http://facebook.com/bumbletampa  \n  Doyle &amp\; Dal
 e - http://www.doyleanddale.com/  \n  the bloomerie - http://www.thebloome
 rie.com/  \n  Harbr Co.- http://harbr.co  \n  Franny &amp\; Franky Designs
  - https://www.facebook.com/frannyandfranky  \n  Jack and Ella Paper - htt
 p://jackandellapaper.com  \n  Mystic Hair Salon - http://mystichair.com  \
 n  Commune + Co - communeandco.com  \n  Sea and Asters - https://www.faceb
 ook.com/Sea.Asters  \n  Honey Lake Studio - honeylakestudio.bigcartel.com 
  \n  Shear Art - http://shearart.com  \n  Edge Tampa - http://edgesalontam
 pa.com  \n  Green Body Massage - http://www.greenbodymassage.com/  \n \n
LAST-MODIFIED:20231212T102856
LOCATION:Bumble Boutique 
ORGANIZER:mailto:heygirl@yellowconference.com
SUMMARY:Bloom Together Tampa
URL;VALUE=URI:https://ti.to/yellowconference/bloom-together-tampa
URL;VALUE=URI:https://ti.to/yellowconference/bloom-together-tampa
END:VEVENT
END:VCALENDAR
