BEGIN:VCALENDAR
VERSION:2.0
PRODID:icalendar-ruby
CALSCALE:GREGORIAN
BEGIN:VEVENT
DTSTAMP:20260421T120444Z
UID:fUCkcQ
DTSTART;VALUE=DATE:20150402
DTEND;VALUE=DATE:20150403
CLASS:PUBLIC
CREATED:20150312T070546
DESCRIPTION: Our Kickstarter Campaign is launching at the beginning of Apri
 l! We want to celebrate with you. \n\n HUGE thanks to our sponsors: \n\n \
 n  Share and Do Good http://www.shareanddogood.com/  \n  Sevenly Causebox 
 https://causebox.sevenly.org/  \n  31 Bits http://31bits.com/  \n  Sseko D
 esigns http://ssekodesigns.com/  \n  Chasing Linen http://chasinglinen.com
 /  \n  the bloomerie - http://www.thebloomerie.com/  \n \n
LAST-MODIFIED:20231212T102856
LOCATION:Share and Do Good
ORGANIZER:mailto:heygirl@yellowconference.com
SUMMARY:Bloom Together OC
URL;VALUE=URI:https://ti.to/yellowconference/bloom-together-oc
URL;VALUE=URI:https://ti.to/yellowconference/bloom-together-oc
END:VEVENT
END:VCALENDAR
