BEGIN:VCALENDAR
VERSION:2.0
PRODID:icalendar-ruby
CALSCALE:GREGORIAN
BEGIN:VEVENT
DTSTAMP:20260421T120858Z
UID:LKJ1XA
DTSTART;VALUE=DATE:20150402
DTEND;VALUE=DATE:20150403
CLASS:PUBLIC
CREATED:20150312T070736
DESCRIPTION: Our Kickstarter Campaign is launching at the beginning of Apri
 l! We want to celebrate with you. \n\n HUGE thanks to our sponsors: \n\n \
 n  Carissa Christine Photography Studio - http://www.carissachristine.com/
   \n  the bloomerie - http://www.thebloomerie.com/  \n  Anelace Coffee - h
 ttp://www.anelacecoffee.com/  \n  Haus Salon - http://www.haussalon.com/  
 \n  Clutch- Walter and George - http://www.walterandgeorge.co/  \n  Macs. 
 By. MK - https://www.facebook.com/macs.by.mk  \n  Alisun Abbott Style - ht
 tp://www.alisunabbottstyle.com/  \n  A Cupcake Social - http://www.acupcak
 esocial.com/  \n \n
LAST-MODIFIED:20231212T102856
LOCATION:
ORGANIZER:mailto:heygirl@yellowconference.com
SUMMARY:Bloom Together Minneapolis
URL;VALUE=URI:https://ti.to/yellowconference/bloom-together-minneapolis
URL;VALUE=URI:https://ti.to/yellowconference/bloom-together-minneapolis
END:VEVENT
END:VCALENDAR
