BEGIN:VCALENDAR
VERSION:2.0
PRODID:icalendar-ruby
CALSCALE:GREGORIAN
BEGIN:VEVENT
DTSTAMP:20260421T120551Z
UID:9rLOww
DTSTART;VALUE=DATE:20150402
DTEND;VALUE=DATE:20150403
CLASS:PUBLIC
CREATED:20150312T070512
DESCRIPTION: Our Kickstarter Campaign is launching at the beginning of Apri
 l! We want to celebrate with you. \n\n HUGE thanks to our sponsors: \n\n \
 n  Alchemy Works - http://www.alchemyworks.us/  \n  Ben Chic Chocolate - h
 ttp://www.benchic.com/  \n  Hello Totes - http://hellototes.storenvy.com/ 
  \n  Link of Hearts - http://www.linkofhearts.com/  \n  Anna Delores Photo
 graphy - http://www.annadelores.com/  \n  the bloomerie - http://www.thebl
 oomerie.com/  \n  Rey Swimwear - http://www.reyswimwear.com/  \n  Nicole M
 iyuki Santo - https://instagram.com/nicolemiyuki/  \n  Wellen Women -  htt
 p://shop.wellensurf.com/collections/wellen-women  \n  Milk Jar Cookies - h
 ttps://www.milkjarcookies.com/  \n  Lululemon - http://shop.lululemon.com/
   \n \n
LAST-MODIFIED:20231212T102856
LOCATION:Alchemy Works
ORGANIZER:mailto:heygirl@yellowconference.com
SUMMARY:Bloom Together LA
URL;VALUE=URI:https://ti.to/yellowconference/bloom-together-la
URL;VALUE=URI:https://ti.to/yellowconference/bloom-together-la
END:VEVENT
END:VCALENDAR
