BEGIN:VCALENDAR
VERSION:2.0
PRODID:icalendar-ruby
CALSCALE:GREGORIAN
BEGIN:VEVENT
DTSTAMP:20260421T120601Z
UID:NaV6dw
DTSTART;VALUE=DATE:20150402
DTEND;VALUE=DATE:20150403
CLASS:PUBLIC
CREATED:20150312T070803
DESCRIPTION: Our Kickstarter Campaign is launching at the beginning of Apri
 l! We want to celebrate with you. \n\n HUGE thanks to our sponsors: \n\n \
 n  FERN Studio - http://www.fern-shop.com/  \n  the bloomerie - http://www
 .thebloomerie.com/  \n \n
LAST-MODIFIED:20231212T102856
LOCATION:FERN Studio
ORGANIZER:mailto:heygirl@yellowconference.com
SUMMARY:Bloom Together Cincinnati
URL;VALUE=URI:https://ti.to/yellowconference/bloom-together-cincinnati
URL;VALUE=URI:https://ti.to/yellowconference/bloom-together-cincinnati
END:VEVENT
END:VCALENDAR
