BEGIN:VCALENDAR
VERSION:2.0
PRODID:icalendar-ruby
CALSCALE:GREGORIAN
BEGIN:VEVENT
DTSTAMP:20260421T120950Z
UID:JYzM9Q
DTSTART;VALUE=DATE:20150402
DTEND;VALUE=DATE:20150403
CLASS:PUBLIC
CREATED:20150320T084400
DESCRIPTION: Our Kickstarter Campaign is launching at the beginning of Apri
 l! We want to celebrate with you. \n\n HUGE thanks to our sponsors: \n\n \
 n the bloomerie - http://www.thebloomerie.com/ \n \n
LAST-MODIFIED:20231212T102856
LOCATION:
ORGANIZER:mailto:heygirl@yellowconference.com
SUMMARY:Bloom Together Charlotte
URL;VALUE=URI:https://ti.to/yellowconference/bloom-together-charlotte
URL;VALUE=URI:https://ti.to/yellowconference/bloom-together-charlotte
END:VEVENT
END:VCALENDAR
