BEGIN:VCALENDAR
VERSION:2.0
PRODID:icalendar-ruby
CALSCALE:GREGORIAN
BEGIN:VEVENT
DTSTAMP:20260425T120759Z
UID:gLFjWQ
DTSTART;VALUE=DATE:20141122
DTEND;VALUE=DATE:20141123
CLASS:PUBLIC
CREATED:20141111T024850
DESCRIPTION: 7:30 - 11pm (ish!) \n‎Fighting for a beautiful and worthy ca
 use\, the plight against sex trafficking. More info below! \n
LAST-MODIFIED:20231212T102856
LOCATION:Little Meats\, 2684 Lacy St. #210 Los Angeles\, CA 90031
ORGANIZER:mailto:heygirl@yellowconference.com
SUMMARY:Bloom for Hope - ‎Fighting Against Sex Trafficking
URL;VALUE=URI:https://ti.to/yellowconference/bloom-for-hope---fighting-agai
 nst-sex-trafficking
URL;VALUE=URI:https://ti.to/yellowconference/bloom-for-hope---fighting-agai
 nst-sex-trafficking
END:VEVENT
END:VCALENDAR
