BEGIN:VCALENDAR
VERSION:2.0
PRODID:icalendar-ruby
CALSCALE:GREGORIAN
BEGIN:VEVENT
DTSTAMP:20260420T023710Z
UID:WGuF8g
DTSTART;VALUE=DATE:20170529
DTEND;VALUE=DATE:20170601
CLASS:PUBLIC
CREATED:20170515T170057
DESCRIPTION: Get a free hands-on learning experience to explore mobile deve
 lopment through sessions on Xamarin\, Xamarin.Forms\, and Azure Services. 
 Put new knowledge into practice by building a Native Mobile Application us
 ing Xamarin.Forms that works on Windows\, IOS and Android Phones ! \n
LAST-MODIFIED:20170531T094415
LOCATION:Colab\, 4 Barnawa Close\, Off Challawa Crescent\, Barnawa\, Kaduna
ORGANIZER:mailto:joshualikeness@live.com
SUMMARY:Xamarin Engage Kaduna
URL;VALUE=URI:https://ti.to/xamarinengage/kaduna
URL;VALUE=URI:https://ti.to/xamarinengage/kaduna
END:VEVENT
END:VCALENDAR
