BEGIN:VCALENDAR
VERSION:2.0
PRODID:icalendar-ruby
CALSCALE:GREGORIAN
BEGIN:VEVENT
DTSTAMP:20260421T200149Z
UID:6m1glw
DTSTART;VALUE=DATE:20160820
DTEND;VALUE=DATE:20160821
CLASS:PUBLIC
CREATED:20160715T164507
DESCRIPTION: Xamarin Dev Days provide attendees with an intense\, hands-on 
 learning experience. Spend the morning exploring mobile development with s
 essions from Xamarin\, our technology partners\, and members of your local
  developer community\, then roll up your sleeves for an afternoon dedicate
 d to diving into code.  \n\n Join your local Xamarin community at the DC M
 obile .Net user group that meets regularly covering Xamarin and other mobi
 le topics and be sure to check out the Xamarin Dev Days website to see mor
 e cities and dates coming soon. \n
LAST-MODIFIED:20160812T210119
LOCATION:Washington\, D.C.
ORGANIZER:mailto:devdays@xamarin.com
SUMMARY:Xamarin Dev Days - Washington D.C.
URL;VALUE=URI:https://ti.to/xamarin/dev-days-washington-dc
URL;VALUE=URI:https://ti.to/xamarin/dev-days-washington-dc
END:VEVENT
END:VCALENDAR
