BEGIN:VCALENDAR
VERSION:2.0
PRODID:icalendar-ruby
CALSCALE:GREGORIAN
BEGIN:VEVENT
DTSTAMP:20260423T202654Z
UID:zyv2Hw
DTSTART;VALUE=DATE:20161022
DTEND;VALUE=DATE:20161023
CLASS:PUBLIC
CREATED:20161007T034432
DESCRIPTION: Xamarin Dev Days provide attendees with a hands-on learning ex
 perience. Spend the morning exploring mobile development with sessions fro
 m Xamarin\, our technology partners\, and members of your local developer 
 community\, then roll up your sleeves for an afternoon dedicated to diving
  into code.  \n\n For a taste of the Xamarin community be sure to join you
 r local Minnesota Enterprise Mobile that meets regularly covering Xamarin 
 and other Mobile topics! Be sure to check the Dev Days website as we will 
 be adding more events soon. \n
LAST-MODIFIED:20161010T165812
LOCATION:Minneapolis\, MN
ORGANIZER:mailto:devdays@xamarin.com
SUMMARY:Xamarin Dev Days - Twin Cities
URL;VALUE=URI:https://ti.to/xamarin/dev-days-twin-cities
URL;VALUE=URI:https://ti.to/xamarin/dev-days-twin-cities
END:VEVENT
END:VCALENDAR
