BEGIN:VCALENDAR
VERSION:2.0
PRODID:icalendar-ruby
CALSCALE:GREGORIAN
BEGIN:VEVENT
DTSTAMP:20260422T163756Z
UID:sdWa9g
DTSTART;VALUE=DATE:20161119
DTEND;VALUE=DATE:20161120
CLASS:PUBLIC
CREATED:20160826T013235
DESCRIPTION: Xamarin Dev Days provide attendees with an intense\, hands-on 
 learning experience. Spend the morning exploring mobile development with s
 essions from Xamarin\, our technology partners\, and members of your local
  developer community\, then roll up your sleeves for an afternoon dedicate
 d to diving into code.  \n\n Join your local Xamarin community at the Tamp
 a Bay Mobile App Developers that meets regularly covering Xamarin and othe
 r mobile topics and be sure to check out the Xamarin Dev Days website to s
 ee more cities and dates coming soon. \n
LAST-MODIFIED:20160901T020806
LOCATION:Tampa\, FL
ORGANIZER:mailto:devdays@xamarin.com
SUMMARY:Xamarin Dev Days - Tampa
URL;VALUE=URI:https://ti.to/xamarin/dev-days-tampa
URL;VALUE=URI:https://ti.to/xamarin/dev-days-tampa
END:VEVENT
END:VCALENDAR
