BEGIN:VCALENDAR
VERSION:2.0
PRODID:icalendar-ruby
CALSCALE:GREGORIAN
BEGIN:VEVENT
DTSTAMP:20260422T034139Z
UID:t51DXA
DTSTART;VALUE=DATE:20170520
DTEND;VALUE=DATE:20170521
CLASS:PUBLIC
CREATED:20170425T125405
DESCRIPTION: Get a free hands-on learning experience with your local develo
 per community to explore mobile development through sessions on Xamarin\, 
 Xamarin.Forms\, and Azure Services. Put new knowledge into practice by bui
 lding a Xamarin.Forms application in the afternoon in a hands-on lab! \n\n
  Join your local Xamarin community at the Xamarin Developers  group that m
 eets regularly covering Xamarin\, Azure\, and other mobile topics. Be sure
  to check out the Xamarin Dev Days website to see all the upcoming events 
 around the world. \n
LAST-MODIFIED:20170518T063547
LOCATION:St. Petersburg\, Russia
ORGANIZER:mailto:devdays@xamarin.com
SUMMARY:Xamarin Dev Days - St. Petersburg
URL;VALUE=URI:https://ti.to/xamarin/dev-days-stpetersburg-2017
URL;VALUE=URI:https://ti.to/xamarin/dev-days-stpetersburg-2017
END:VEVENT
END:VCALENDAR
