BEGIN:VCALENDAR
VERSION:2.0
PRODID:icalendar-ruby
CALSCALE:GREGORIAN
BEGIN:VEVENT
DTSTAMP:20260420T083645Z
UID:Z4zddw
DTSTART;VALUE=DATE:20161126
DTEND;VALUE=DATE:20161127
CLASS:PUBLIC
CREATED:20160914T045209
DESCRIPTION: Xamarin Dev Days provide attendees with an intense\, hands-on 
 learning experience. Spend the morning exploring mobile development with s
 essions from Xamarin\, our technology partners\, and members of your local
  developer community\, then roll up your sleeves for an afternoon dedicate
 d to diving into code.  \n\n Join your local Xamarin community at the Cros
 s-Platform Native Mobile Development in Paris user group that meets regula
 rly covering Xamarin and other mobile topics and be sure to check out the 
 Xamarin Dev Days website to see more cities and dates coming soon. \n
LAST-MODIFIED:20160916T151016
LOCATION:Paris\, France
ORGANIZER:mailto:devdays@xamarin.com
SUMMARY:Xamarin Dev Days - Paris
URL;VALUE=URI:https://ti.to/xamarin/dev-days-paris
URL;VALUE=URI:https://ti.to/xamarin/dev-days-paris
END:VEVENT
END:VCALENDAR
