BEGIN:VCALENDAR
VERSION:2.0
PRODID:icalendar-ruby
CALSCALE:GREGORIAN
BEGIN:VEVENT
DTSTAMP:20260423T055307Z
UID:dtiwdg
DTSTART;VALUE=DATE:20161104
DTEND;VALUE=DATE:20161105
CLASS:PUBLIC
CREATED:20160826T034027
DESCRIPTION: Xamarin Dev Days provide attendees with an intense\, hands-on 
 learning experience. Spend the morning exploring mobile development with s
 essions from Xamarin\, our technology partners\, and members of your local
  developer community\, then roll up your sleeves for an afternoon dedicate
 d to diving into code.  \n\n Join your local Xamarin community at the Dot 
 Net North user group that meets regularly covering Xamarin and other mobil
 e topics and be sure to check out the Xamarin Dev Days website to see more
  cities and dates coming soon. \n
LAST-MODIFIED:20160930T040354
LOCATION:Manchester\, England
ORGANIZER:mailto:devdays@xamarin.com
SUMMARY:Xamarin Dev Days - Manchester
URL;VALUE=URI:https://ti.to/xamarin/dev-days-manchester
URL;VALUE=URI:https://ti.to/xamarin/dev-days-manchester
END:VEVENT
END:VCALENDAR
