BEGIN:VCALENDAR
VERSION:2.0
PRODID:icalendar-ruby
CALSCALE:GREGORIAN
BEGIN:VEVENT
DTSTAMP:20260423T055036Z
UID:tgGYEA
DTSTART;VALUE=DATE:20171020
DTEND;VALUE=DATE:20171021
CLASS:PUBLIC
CREATED:20170227T194507
DESCRIPTION: Get a free hands-on learning experience with your local develo
 per community to explore mobile development through sessions on Xamarin\, 
 Xamarin.Forms\, and Azure Services. Put new knowledge into practice by bui
 lding a Xamarin.Forms application in the afternoon in a hands-on lab! \n\n
  Join your local Xamarin community at the Dot Net North developer group th
 at meets regularly covering Xamarin\, Azure\, and other mobile topics. Be 
 sure to check out the Xamarin Dev Days website to see all the upcoming eve
 nts around the world. \n
LAST-MODIFIED:20171011T124834
LOCATION:Manchester\, United Kingdom
ORGANIZER:mailto:devdays@xamarin.com
SUMMARY:Xamarin Dev Days - Manchester
URL;VALUE=URI:https://ti.to/xamarin/dev-days-manchester-2017
URL;VALUE=URI:https://ti.to/xamarin/dev-days-manchester-2017
END:VEVENT
END:VCALENDAR
