BEGIN:VCALENDAR
VERSION:2.0
PRODID:icalendar-ruby
CALSCALE:GREGORIAN
BEGIN:VEVENT
DTSTAMP:20260420T163956Z
UID:OY9RFg
DTSTART;VALUE=DATE:20161008
DTEND;VALUE=DATE:20161009
CLASS:PUBLIC
CREATED:20160916T203420
DESCRIPTION: Xamarin Dev Days provide attendees with an intense\, hands-on 
 learning experience. Spend the morning exploring mobile development with s
 essions from Xamarin\, our technology partners\, and members of your local
  developer community\, then roll up your sleeves for an afternoon dedicate
 d to diving into code.  \n\n Join your local Xamarin community to cover Xa
 marin and other mobile topics and be sure to check out the Xamarin Dev Day
 s website to see more cities and dates coming soon. \n
LAST-MODIFIED:20161006T195359
LOCATION:Dallas\, TX
ORGANIZER:mailto:devdays@xamarin.com
SUMMARY:Xamarin Dev Days - Dallas
URL;VALUE=URI:https://ti.to/xamarin/dev-days-dallas
URL;VALUE=URI:https://ti.to/xamarin/dev-days-dallas
END:VEVENT
END:VCALENDAR
