BEGIN:VCALENDAR
VERSION:2.0
PRODID:icalendar-ruby
CALSCALE:GREGORIAN
BEGIN:VEVENT
DTSTAMP:20260420T161743Z
UID:ltgG4A
DTSTART;VALUE=DATE:20161029
DTEND;VALUE=DATE:20161030
CLASS:PUBLIC
CREATED:20160916T153727
DESCRIPTION: Xamarin Dev Days provide attendees with a hands-on learning ex
 perience. Spend the morning exploring mobile development with sessions fro
 m Xamarin\, our technology partners\, and members of your local developer 
 community\, then roll up your sleeves for an afternoon dedicated to diving
  into code.  \n\n Join your local Xamarin community at the Chiapas Mobile 
 .NET Developers Group user group that meets regularly covering Xamarin and
  other mobile topics and be sure to check out the Xamarin Dev Days website
  to see more cities and dates coming soon. \n
LAST-MODIFIED:20171103T135836
LOCATION:Chiapas\, Mexico
ORGANIZER:mailto:devdays@xamarin.com
SUMMARY:Xamarin Dev Days - Chiapas
URL;VALUE=URI:https://ti.to/xamarin/dev-days-chiapas
URL;VALUE=URI:https://ti.to/xamarin/dev-days-chiapas
END:VEVENT
END:VCALENDAR
