BEGIN:VCALENDAR
VERSION:2.0
PRODID:icalendar-ruby
CALSCALE:GREGORIAN
BEGIN:VTIMEZONE
TZID:America/Los_Angeles
BEGIN:DAYLIGHT
DTSTART:20260308T030000
TZOFFSETFROM:-0800
TZOFFSETTO:-0700
RRULE:FREQ=YEARLY;BYDAY=2SU;BYMONTH=3
TZNAME:PDT
END:DAYLIGHT
BEGIN:STANDARD
DTSTART:20261101T010000
TZOFFSETFROM:-0700
TZOFFSETTO:-0800
RRULE:FREQ=YEARLY;BYDAY=1SU;BYMONTH=11
TZNAME:PST
END:STANDARD
END:VTIMEZONE
BEGIN:VEVENT
DTSTAMP:20260423T160309Z
UID:gbkIAA
DTSTART;VALUE=DATE:20260503
DTEND;VALUE=DATE:20260506
CLASS:PUBLIC
CREATED:20251121T151058
DESCRIPTION: Write the Docs is a global community of people who care about 
 documentation: Programmers\, Tech Writers\, Customer Support\, Designers\,
  Project Managers\, Developer Advocates\, and anyone else who wants people
  to have a great experience with software. \n\n For more information visit
  our website at https://www.writethedocs.org/conf/portland/2026/ \n
LAST-MODIFIED:20260415T121603
LOCATION:Portland\, Oregon
ORGANIZER:mailto:portland@writethedocs.org
SUMMARY:Write the Docs Portland 2026
URL;VALUE=URI:https://ti.to/writethedocs/write-the-docs-portland-2026
URL;VALUE=URI:https://ti.to/writethedocs/write-the-docs-portland-2026
END:VEVENT
END:VCALENDAR
