BEGIN:VCALENDAR
VERSION:2.0
PRODID:icalendar-ruby
CALSCALE:GREGORIAN
BEGIN:VTIMEZONE
TZID:Europe/London
BEGIN:DAYLIGHT
DTSTART:20250330T020000
TZOFFSETFROM:+0000
TZOFFSETTO:+0100
RRULE:FREQ=YEARLY;BYDAY=-1SU;BYMONTH=3
TZNAME:BST
END:DAYLIGHT
BEGIN:STANDARD
DTSTART:20251026T010000
TZOFFSETFROM:+0100
TZOFFSETTO:+0000
RRULE:FREQ=YEARLY;BYDAY=-1SU;BYMONTH=10
TZNAME:GMT
END:STANDARD
END:VTIMEZONE
BEGIN:VEVENT
DTSTAMP:20260420T150115Z
UID:zczSMw
DTSTART;TZID=Europe/London:20250925T090000
DTEND;TZID=Europe/London:20250925T180000
CLASS:PUBLIC
CREATED:20250617T032433
DESCRIPTION: The premier event for developers and engineers who build with 
 WordPress. \n\n Join us for world-class talks covering development strateg
 ies\, cross-functional collaboration\, tooling &amp\; workflows\, and much
  more. If you develop sites with WordPress\, either for yourself or for ot
 hers\, LoopConf is for you. Every presenter has been hand-picked and each 
 topic is selected to complement or build on the others. \n\n Visit the Loo
 pConf London website to check out the full schedule. \n
LAST-MODIFIED:20250923T215215
LOCATION:London\, UK
ORGANIZER:mailto:hello@loopconf.com
SUMMARY:LoopConf London 2025
URL;VALUE=URI:https://ti.to/wpsessions/loopconf
URL;VALUE=URI:https://ti.to/wpsessions/loopconf
END:VEVENT
END:VCALENDAR
