BEGIN:VCALENDAR
VERSION:2.0
PRODID:icalendar-ruby
CALSCALE:GREGORIAN
BEGIN:VTIMEZONE
TZID:America/New_York
BEGIN:DAYLIGHT
DTSTART:20210314T030000
TZOFFSETFROM:-0500
TZOFFSETTO:-0400
RRULE:FREQ=YEARLY;BYDAY=2SU;BYMONTH=3
TZNAME:EDT
END:DAYLIGHT
BEGIN:STANDARD
DTSTART:20211107T010000
TZOFFSETFROM:-0400
TZOFFSETTO:-0500
RRULE:FREQ=YEARLY;BYDAY=1SU;BYMONTH=11
TZNAME:EST
END:STANDARD
END:VTIMEZONE
BEGIN:VEVENT
DTSTAMP:20260424T184327Z
UID:MbZViQ
DTSTART;VALUE=DATE:20211013
DTEND;VALUE=DATE:20211014
CLASS:PUBLIC
CREATED:20210914T062801
DESCRIPTION: Join us on Wednesday\, October 13 at 6pm for our DigiPublish H
 appy Hour! \n\n Whilst we at World Forum Disrupt prepare for the return of
  our annual conference early next year\, we wanted to host the first of ou
 r free evening events! \n\n Speakers from Acast\, Foreign Affairs\, Vox\, 
 and Jeeng will sit on our panel to discuss how they are effectively captur
 ing and using data to improve their content strategy! \n\n The event will 
 take place at WeWork\, 368 9th Avenue (Hudson Yards)\, Room 5A on the 5th 
 floor. Here is the schedule for the evening: \n\n \n 6:00 PM - Registratio
 n Opens / Grab a Drink \n 6:30 PM - Panel Begins \n 7:15 PM - Networking R
 eception \n 8:00 PM - Event Concludes \n \n\n With the ever changing lands
 cape of the internet and media\, publishers have to be innovative with the
 ir content creation\, effective with their data\, and stand out among the 
 competition. With an abundance of content platforms and formats\, which pa
 radigm will reign supreme in the future? And with data now our most valuab
 le resource\, how will we optimally gather such info\, use it responsibly\
 , and provide customers with a greater experience? Register below to join 
 our panel of experts as they look to the future and discuss these importan
 t publishing questions. \n
LAST-MODIFIED:20211013T173736
LOCATION:WeWork\, 368 9th Avenue (Hudson Yards)\, Room 5A on the 5th floor
ORGANIZER:mailto:max.bowen@worldforumdisrupt.com
SUMMARY:Data Strategy to Create Unrivalled Content
URL;VALUE=URI:https://ti.to/world-forum-disrupt/jeeng-october-happy-hour
URL;VALUE=URI:https://ti.to/world-forum-disrupt/jeeng-october-happy-hour
END:VEVENT
END:VCALENDAR
