BEGIN:VCALENDAR
VERSION:2.0
PRODID:icalendar-ruby
CALSCALE:GREGORIAN
BEGIN:VTIMEZONE
TZID:America/New_York
BEGIN:DAYLIGHT
DTSTART:20220313T030000
TZOFFSETFROM:-0500
TZOFFSETTO:-0400
RRULE:FREQ=YEARLY;BYDAY=2SU;BYMONTH=3
TZNAME:EDT
END:DAYLIGHT
BEGIN:STANDARD
DTSTART:20211107T010000
TZOFFSETFROM:-0400
TZOFFSETTO:-0500
RRULE:FREQ=YEARLY;BYDAY=1SU;BYMONTH=11
TZNAME:EST
END:STANDARD
END:VTIMEZONE
BEGIN:VEVENT
DTSTAMP:20260424T170607Z
UID:CuA5sw
DTSTART;VALUE=DATE:20220216
DTEND;VALUE=DATE:20220217
CLASS:PUBLIC
CREATED:20211202T051131
DESCRIPTION: Join us on Wednesday\, February 16 at 6pm for our DigiPublish 
 Happy Hour! \n\n Whilst we at World Forum Disrupt prepare for the return o
 f our annual conference\, we wanted to host the second of our free evening
  events! \n\n Join us\, as our panel of experts discuss how they are using
  personalization and customer journeys to drive growth. \n\n Our speakers 
 include: \n\n \n Will Roth\, Head of Content &amp\; Strategy\, The Foundry
  \n Carlos Marales\, Director\, Digital Analytics &amp\; Audience Dev\, Fo
 reign Affairs \n Adele Schelling\, Growth Manager\, Acast  \n Jeff Kupietz
 ky\, Chief Executive Officer\, Jeeng \n Lee Huang\, Former VP\, Digital Pr
 oducts\, Hachette Book Group (Big 5 Book Publisher) \n \n\n The event will
  take place at WeWork\, 368 9th Avenue (Hudson Yards)\, Room 5A on the 5th
  floor. Here is the schedule for the evening: \n\n \n 6:00 PM - Registrati
 on Opens / Grab a Drink \n 6:30 PM - Panel Begins \n 7:15 PM - Networking 
 Reception \n 8:00 PM - Event Concludes \n \n
LAST-MODIFIED:20220207T065631
LOCATION:WeWork\, 368 9th Avenue (Hudson Yards)\, Room 5A on the 5th floor
ORGANIZER:mailto:max.bowen@worldforumdisrupt.com
SUMMARY:Growth Through Personalization & Customer Journeys
URL;VALUE=URI:https://ti.to/world-forum-disrupt/jeeng-january-happy-hour
URL;VALUE=URI:https://ti.to/world-forum-disrupt/jeeng-january-happy-hour
END:VEVENT
END:VCALENDAR
