BEGIN:VCALENDAR
VERSION:2.0
PRODID:icalendar-ruby
CALSCALE:GREGORIAN
BEGIN:VTIMEZONE
TZID:Europe/Vienna
BEGIN:DAYLIGHT
DTSTART:20220327T030000
TZOFFSETFROM:+0100
TZOFFSETTO:+0200
RRULE:FREQ=YEARLY;BYDAY=-1SU;BYMONTH=3
TZNAME:CEST
END:DAYLIGHT
BEGIN:STANDARD
DTSTART:20221030T020000
TZOFFSETFROM:+0200
TZOFFSETTO:+0100
RRULE:FREQ=YEARLY;BYDAY=-1SU;BYMONTH=10
TZNAME:CET
END:STANDARD
END:VTIMEZONE
BEGIN:VEVENT
DTSTAMP:20260422T085653Z
UID:7ClKFw
DTSTART;VALUE=DATE:20221020
DTEND;VALUE=DATE:20221022
CLASS:PUBLIC
CREATED:20220613T232316
DESCRIPTION: Wolves Summit Vienna. \n2 days of high-quality networking\, st
 artups\, and investor receptions organised at the heart of Europe. \n20-21
  October 2022\, Vienna\, Austria. \n
LAST-MODIFIED:20230919T213407
LOCATION:weXelerate\, Vienna\, Austria
ORGANIZER:mailto:info@wolvessummit.com
SUMMARY:Wolves Summit October 2022
URL;VALUE=URI:https://ti.to/wolves-summit/wolves-summit-october-2022-eur
URL;VALUE=URI:https://ti.to/wolves-summit/wolves-summit-october-2022-eur
END:VEVENT
END:VCALENDAR
