BEGIN:VCALENDAR
VERSION:2.0
PRODID:icalendar-ruby
CALSCALE:GREGORIAN
BEGIN:VTIMEZONE
TZID:Europe/London
BEGIN:DAYLIGHT
DTSTART:20230326T020000
TZOFFSETFROM:+0000
TZOFFSETTO:+0100
RRULE:FREQ=YEARLY;BYDAY=-1SU;BYMONTH=3
TZNAME:BST
END:DAYLIGHT
BEGIN:STANDARD
DTSTART:20221030T010000
TZOFFSETFROM:+0100
TZOFFSETTO:+0000
RRULE:FREQ=YEARLY;BYDAY=-1SU;BYMONTH=10
TZNAME:GMT
END:STANDARD
END:VTIMEZONE
BEGIN:VEVENT
DTSTAMP:20260421T170702Z
UID:DlB7bQ
DTSTART;VALUE=DATE:20230308
DTEND;VALUE=DATE:20230310
CLASS:PUBLIC
CREATED:20221128T163038
DESCRIPTION: Scheduled to take place in London on March 8th-9th 2023\, Alph
 a Wolves is a two-day event full of focused talks\, curated roundtable dis
 cussions and a chance for CEE start-ups and international LPs and GPs to e
 ngage with the people driving change in the UK start-up ecosystem.  \n\n T
 he event is an exclusive forum for growth-stage companies partnering with 
 venture and growth capital to achieve scale.  \n
LAST-MODIFIED:20230919T203407
LOCATION:London\, United Kingdom
ORGANIZER:mailto:info@wolvessummit.com
SUMMARY:Alpha Wolves March 2023
URL;VALUE=URI:https://ti.to/wolves-summit/alpha-wolves-march-2023-eur
URL;VALUE=URI:https://ti.to/wolves-summit/alpha-wolves-march-2023-eur
END:VEVENT
END:VCALENDAR
