BEGIN:VCALENDAR
VERSION:2.0
PRODID:icalendar-ruby
CALSCALE:GREGORIAN
BEGIN:VEVENT
DTSTAMP:20260419T153808Z
UID:ZAcJFg
DTSTART;VALUE=DATE:20190920
DTEND;VALUE=DATE:20190921
CLASS:PUBLIC
CREATED:20190214T160554
DESCRIPTION: A tech conference dedicated to the JavaScript community in Ire
 land \n
LAST-MODIFIED:20231212T102856
LOCATION:Dublin\, Ireland
ORGANIZER:mailto:hello@jsday.org
SUMMARY:JSDayIE 2019
URL;VALUE=URI:https://ti.to/wolk-software-limited/jsdayie-2019
URL;VALUE=URI:https://ti.to/wolk-software-limited/jsdayie-2019
END:VEVENT
END:VCALENDAR
