BEGIN:VCALENDAR
VERSION:2.0
PRODID:icalendar-ruby
CALSCALE:GREGORIAN
BEGIN:VTIMEZONE
TZID:Europe/London
BEGIN:DAYLIGHT
DTSTART:20240331T020000
TZOFFSETFROM:+0000
TZOFFSETTO:+0100
RRULE:FREQ=YEARLY;BYDAY=-1SU;BYMONTH=3
TZNAME:BST
END:DAYLIGHT
BEGIN:STANDARD
DTSTART:20241027T010000
TZOFFSETFROM:+0100
TZOFFSETTO:+0000
RRULE:FREQ=YEARLY;BYDAY=-1SU;BYMONTH=10
TZNAME:GMT
END:STANDARD
END:VTIMEZONE
BEGIN:VEVENT
DTSTAMP:20260420T035725Z
UID:8RKSAQ
DTSTART;TZID=Europe/London:20240411T180000
DTEND;TZID=Europe/London:20240411T210000
CLASS:PUBLIC
CREATED:20240207T124829
DESCRIPTION: Join our London community meetup event\, hosted by our sponsor
 s incident.io &amp\; Monzo. \n
LAST-MODIFIED:20260202T144229
LOCATION:London
ORGANIZER:mailto:hello@leaddev.com
SUMMARY:LeadDev Meetup - London - April 2024
URL;VALUE=URI:https://ti.to/whiteoctober/leaddev-meetup-london-apr-2024
URL;VALUE=URI:https://ti.to/whiteoctober/leaddev-meetup-london-apr-2024
END:VEVENT
END:VCALENDAR
