BEGIN:VCALENDAR
VERSION:2.0
PRODID:icalendar-ruby
CALSCALE:GREGORIAN
BEGIN:VEVENT
DTSTAMP:20260420T181313Z
UID:P6prOg
DTSTART;VALUE=DATE:20140913
DTEND;VALUE=DATE:20140914
CLASS:PUBLIC
CREATED:20140307T161048
DESCRIPTION: BIRDIE is a 1-day conference for anyone who is passionate abou
 t photography. Our speakers are talented photographers and folks working i
 n the field\, who’ll be sharing their stories and inspiration. \n\n View
  event details at birdieconf.com \n
LAST-MODIFIED:20260202T144229
LOCATION:Shoreditch\, London
ORGANIZER:mailto:hello@whiteoctoberevents.co.uk
SUMMARY:BIRDIE Conf
URL;VALUE=URI:https://ti.to/whiteoctober/birdie-conf
URL;VALUE=URI:https://ti.to/whiteoctober/birdie-conf
END:VEVENT
END:VCALENDAR
