BEGIN:VCALENDAR
VERSION:2.0
PRODID:icalendar-ruby
CALSCALE:GREGORIAN
BEGIN:VEVENT
DTSTAMP:20260422T085533Z
UID:EOwUtQ
DTSTART;VALUE=DATE:20251201
DTEND;VALUE=DATE:20251203
CLASS:PUBLIC
CREATED:20240130T134429
DESCRIPTION: https://www.smart-product-management-summit.de/ \n\n Auf der S
 mart Produktmanagement.CON treffen sich mehr als 150 Entscheidungsträger 
 aus dem Produktmanagement\, um beste Ansätze sowie neue technologische M
 öglichkeiten und Trends im Produktmanagement im Maschinen- &amp\; Anlagen
 bau zu diskutieren. \n
LAST-MODIFIED:20260218T083848
LOCATION:Berlin
ORGANIZER:mailto:booking@we-conect.com
SUMMARY:Smart Produkt Management.CON
URL;VALUE=URI:https://ti.to/weconect/smart-produkt-management
URL;VALUE=URI:https://ti.to/weconect/smart-produkt-management
END:VEVENT
END:VCALENDAR
