BEGIN:VCALENDAR
VERSION:2.0
PRODID:icalendar-ruby
CALSCALE:GREGORIAN
BEGIN:VTIMEZONE
TZID:America/New_York
BEGIN:DAYLIGHT
DTSTART:20270314T030000
TZOFFSETFROM:-0500
TZOFFSETTO:-0400
RRULE:FREQ=YEARLY;BYDAY=2SU;BYMONTH=3
TZNAME:EDT
END:DAYLIGHT
BEGIN:STANDARD
DTSTART:20261101T010000
TZOFFSETFROM:-0400
TZOFFSETTO:-0500
RRULE:FREQ=YEARLY;BYDAY=1SU;BYMONTH=11
TZNAME:EST
END:STANDARD
END:VTIMEZONE
BEGIN:VEVENT
DTSTAMP:20260420T084921Z
UID:CjZdQw
DTSTART;VALUE=DATE:20261129
DTEND;VALUE=DATE:20261202
CLASS:PUBLIC
CREATED:20231208T052906
DESCRIPTION: https://www.sam-strategies.com/ \n\n The annual industry show 
 SAMS combines distinguished expert keynotes and interactive world café ro
 und tables\, private discussion rounds\, networking sessions and vendor-fr
 ee audit debates. Building upon the success story of USA’s most influent
 ial SAM event series\, the Software Asset Management Strategies USA will f
 eature an unique mix of more than 120 software asset managers and IT procu
 rement managers from the region’s top companies at the only end-user dri
 ven SAM networking event – free of mega-vendors &amp\; auditors. \n
LAST-MODIFIED:20260408T073549
LOCATION:Chicago\, USA
ORGANIZER:mailto:booking@we-conect.com
SUMMARY:SAMS USA 2026
URL;VALUE=URI:https://ti.to/weconect/sams-usa
URL;VALUE=URI:https://ti.to/weconect/sams-usa
END:VEVENT
END:VCALENDAR
