BEGIN:VCALENDAR
VERSION:2.0
PRODID:icalendar-ruby
CALSCALE:GREGORIAN
BEGIN:VEVENT
DTSTAMP:20260426T032921Z
UID:gcLePw
DTSTART;VALUE=DATE:20210715
DTEND;VALUE=DATE:20210717
CLASS:PUBLIC
CREATED:20201211T125129
DESCRIPTION: The Pharma MES USA is the leading knowledge exchange platform 
 for pharma manufacturing around the globe\, bringing together all stakehol
 ders who play an active role in the pharma industry and life science scene
 . The event provides you with precise insights into new business prospects
  and technical strategies while offering you the chance to discuss specifi
 c roadmaps for pharma manufacturing and manufacturing execution systems. D
 iscover the next era of Pharma MES – NOW! \n
LAST-MODIFIED:20260309T101357
LOCATION:USA
ORGANIZER:mailto:booking@we-conect.com
SUMMARY:Pharma MES USA 2021
URL;VALUE=URI:https://ti.to/weconect/pharma-mes-usa-2021
URL;VALUE=URI:https://ti.to/weconect/pharma-mes-usa-2021
END:VEVENT
END:VCALENDAR
