BEGIN:VCALENDAR
VERSION:2.0
PRODID:icalendar-ruby
CALSCALE:GREGORIAN
BEGIN:VTIMEZONE
TZID:Europe/Berlin
BEGIN:DAYLIGHT
DTSTART:20240331T030000
TZOFFSETFROM:+0100
TZOFFSETTO:+0200
RRULE:FREQ=YEARLY;BYDAY=-1SU;BYMONTH=3
TZNAME:CEST
END:DAYLIGHT
BEGIN:STANDARD
DTSTART:20231029T020000
TZOFFSETFROM:+0200
TZOFFSETTO:+0100
RRULE:FREQ=YEARLY;BYDAY=-1SU;BYMONTH=10
TZNAME:CET
END:STANDARD
END:VTIMEZONE
BEGIN:VEVENT
DTSTAMP:20260426T030147Z
UID:FIdLFQ
DTSTART;VALUE=DATE:20231127
DTEND;VALUE=DATE:20231129
CLASS:PUBLIC
CREATED:20230403T104138
DESCRIPTION: Europe's Must-Attend Event for the Market Access Professionals
  in Pharma\, Biotech and Lifescience. \n\n Pharma MARCON is the leading Ma
 rket Access event for Pharma and Biotech in Europe bringing together 150+ 
 senior MA and pricing professionals from across the pharma and biotech lan
 dscape for networking and exchange. \n\n https://www.pharma-market-access.
 com/ \n
LAST-MODIFIED:20250710T152838
LOCATION:Pullmann Schweizer Hof Berlin
ORGANIZER:mailto:booking@we-conect.com
SUMMARY:Pharma MAR.CON 2023
URL;VALUE=URI:https://ti.to/weconect/pharma-market-access-2023
URL;VALUE=URI:https://ti.to/weconect/pharma-market-access-2023
END:VEVENT
END:VCALENDAR
