BEGIN:VCALENDAR
VERSION:2.0
PRODID:icalendar-ruby
CALSCALE:GREGORIAN
BEGIN:VTIMEZONE
TZID:Europe/London
BEGIN:DAYLIGHT
DTSTART:20260329T020000
TZOFFSETFROM:+0000
TZOFFSETTO:+0100
RRULE:FREQ=YEARLY;BYDAY=-1SU;BYMONTH=3
TZNAME:BST
END:DAYLIGHT
BEGIN:STANDARD
DTSTART:20251026T010000
TZOFFSETFROM:+0100
TZOFFSETTO:+0000
RRULE:FREQ=YEARLY;BYDAY=-1SU;BYMONTH=10
TZNAME:GMT
END:STANDARD
END:VTIMEZONE
BEGIN:VEVENT
DTSTAMP:20260425T165831Z
UID:0jdk6A
DTSTART;VALUE=DATE:20260127
DTEND;VALUE=DATE:20260128
CLASS:PUBLIC
CREATED:20260107T104146
DESCRIPTION: Join an exclusive webinar hosted by Parloa \n
LAST-MODIFIED:20260413T074208
LOCATION:https://app.hubs101.com/login
ORGANIZER:mailto:noreply-calendar@tito.io
SUMMARY:Parloa Webinar 27.01.26
URL;VALUE=URI:https://ti.to/weconect/parloa-webinar-27-01-26
URL;VALUE=URI:https://ti.to/weconect/parloa-webinar-27-01-26
END:VEVENT
END:VCALENDAR
