BEGIN:VCALENDAR
VERSION:2.0
PRODID:icalendar-ruby
CALSCALE:GREGORIAN
BEGIN:VTIMEZONE
TZID:Europe/London
BEGIN:DAYLIGHT
DTSTART:20260329T020000
TZOFFSETFROM:+0000
TZOFFSETTO:+0100
RRULE:FREQ=YEARLY;BYDAY=-1SU;BYMONTH=3
TZNAME:BST
END:DAYLIGHT
BEGIN:STANDARD
DTSTART:20251026T010000
TZOFFSETFROM:+0100
TZOFFSETTO:+0000
RRULE:FREQ=YEARLY;BYDAY=-1SU;BYMONTH=10
TZNAME:GMT
END:STANDARD
END:VTIMEZONE
BEGIN:VEVENT
DTSTAMP:20260425T190444Z
UID:tAJpFQ
DTSTART;TZID=Europe/London:20251202T110000
DTEND;TZID=Europe/London:20251202T120000
CLASS:PUBLIC
CREATED:20251106T153907
DESCRIPTION: Nehmen Sie an einem exklusiven Webinar von Nexthink teil \n
LAST-MODIFIED:20260218T083848
LOCATION:https://app.hubs101.com/login
ORGANIZER:mailto:noreply-calendar@tito.io
SUMMARY:Nexthink Webinar 2025
URL;VALUE=URI:https://ti.to/weconect/nexthink-webinar-2025
URL;VALUE=URI:https://ti.to/weconect/nexthink-webinar-2025
END:VEVENT
END:VCALENDAR
