BEGIN:VCALENDAR
VERSION:2.0
PRODID:icalendar-ruby
CALSCALE:GREGORIAN
BEGIN:VTIMEZONE
TZID:Europe/Copenhagen
BEGIN:DAYLIGHT
DTSTART:20250330T030000
TZOFFSETFROM:+0100
TZOFFSETTO:+0200
RRULE:FREQ=YEARLY;BYDAY=-1SU;BYMONTH=3
TZNAME:CEST
END:DAYLIGHT
BEGIN:STANDARD
DTSTART:20251026T020000
TZOFFSETFROM:+0200
TZOFFSETTO:+0100
RRULE:FREQ=YEARLY;BYDAY=-1SU;BYMONTH=10
TZNAME:CET
END:STANDARD
END:VTIMEZONE
BEGIN:VEVENT
DTSTAMP:20260424T163556Z
UID:DrAJuw
DTSTART;VALUE=DATE:20250928
DTEND;VALUE=DATE:20251001
CLASS:PUBLIC
CREATED:20240911T145754
DESCRIPTION: Scandinavia´s most innovative and industry-driven event on di
 gital internal communications\, employee engagement\, L&amp\;D\, and chang
 e management. \n\n https://www.internal-communications-nordic.com/ \n
LAST-MODIFIED:20260218T093848
LOCATION:Radisson Blu Scandinavia Hotel
ORGANIZER:mailto:booking@we-conect.com
SUMMARY:Internal Communications Nordic 2026 Business Partner Packages
URL;VALUE=URI:https://ti.to/weconect/internal-communications-nordic-2025-bp
 -packages
URL;VALUE=URI:https://ti.to/weconect/internal-communications-nordic-2025-bp
 -packages
END:VEVENT
END:VCALENDAR
