BEGIN:VCALENDAR
VERSION:2.0
PRODID:icalendar-ruby
CALSCALE:GREGORIAN
BEGIN:VTIMEZONE
TZID:Europe/Berlin
BEGIN:DAYLIGHT
DTSTART:20270328T030000
TZOFFSETFROM:+0100
TZOFFSETTO:+0200
RRULE:FREQ=YEARLY;BYDAY=-1SU;BYMONTH=3
TZNAME:CEST
END:DAYLIGHT
BEGIN:STANDARD
DTSTART:20261025T020000
TZOFFSETFROM:+0200
TZOFFSETTO:+0100
RRULE:FREQ=YEARLY;BYDAY=-1SU;BYMONTH=10
TZNAME:CET
END:STANDARD
END:VTIMEZONE
BEGIN:VEVENT
DTSTAMP:20260421T032811Z
UID:s22dbQ
DTSTART;VALUE=DATE:20270318
DTEND;VALUE=DATE:20270320
CLASS:PUBLIC
CREATED:20240320T154303
DESCRIPTION: ELECTRIFIED POWERTRAINS AND COMPONENTS – ADVANCING EFFICIENC
 Y\, PERFORMANCE\, SCALABILITY\, AND SAFETY! \n\n The Automotive ePowertrai
 n Tech Summit brings together over 150 of the most influential technical E
 V powertrain experts and executives from leading European automotive compa
 nies transforming the electric vehicle ecosystem in Berlin!\nwww.automotiv
 e-epowertrain-technology.com \n
LAST-MODIFIED:20260331T094027
LOCATION:Pullman Schweizer Hof\, Berlin\, Germany
ORGANIZER:mailto:booking@we-conect.com
SUMMARY:The Automotive E-Powertrain Tech Summit 2027 Business Partner Packa
 ges
URL;VALUE=URI:https://ti.to/weconect/epowertrain-2026-bp-packages
URL;VALUE=URI:https://ti.to/weconect/epowertrain-2026-bp-packages
END:VEVENT
END:VCALENDAR
