BEGIN:VCALENDAR
VERSION:2.0
PRODID:icalendar-ruby
CALSCALE:GREGORIAN
BEGIN:VTIMEZONE
TZID:Europe/Berlin
BEGIN:DAYLIGHT
DTSTART:20260329T030000
TZOFFSETFROM:+0100
TZOFFSETTO:+0200
RRULE:FREQ=YEARLY;BYDAY=-1SU;BYMONTH=3
TZNAME:CEST
END:DAYLIGHT
BEGIN:STANDARD
DTSTART:20261025T020000
TZOFFSETFROM:+0200
TZOFFSETTO:+0100
RRULE:FREQ=YEARLY;BYDAY=-1SU;BYMONTH=10
TZNAME:CET
END:STANDARD
END:VTIMEZONE
BEGIN:VEVENT
DTSTAMP:20260421T143452Z
UID:Odoazw
DTSTART;TZID=Europe/Berlin:20260507T143000
DTEND;TZID=Europe/Berlin:20260507T153000
CLASS:PUBLIC
CREATED:20260410T130823
DESCRIPTION: Join an exclusive webinar hosted byCinemo \n
LAST-MODIFIED:20260410T131242
LOCATION:https://app.hubs101.com/login
ORGANIZER:mailto:noreply-calendar@tito.io
SUMMARY:Cinemo Webinar 2026
URL;VALUE=URI:https://ti.to/weconect/cinemo
URL;VALUE=URI:https://ti.to/weconect/cinemo
END:VEVENT
END:VCALENDAR
