BEGIN:VCALENDAR
VERSION:2.0
PRODID:icalendar-ruby
CALSCALE:GREGORIAN
BEGIN:VEVENT
DTSTAMP:20260424T164512Z
UID:xLa18g
DTSTART;VALUE=DATE:20200629
DTEND;VALUE=DATE:20200701
CLASS:PUBLIC
CREATED:20190531T124652
DESCRIPTION: Autonomous Mobile Machines and systems technologies are playin
 g an increasingly important role in our interconnected and digitalized wor
 ld. The Autonomous Mobile Machines is an international knowledge exchange 
 platform bringing together over 100 top experts in the field\, and will pr
 ovide a unique glimpse into the fascinating world of autonomous robots\, i
 ntelligent machines\, cognitive machines and smart technologies. \n
LAST-MODIFIED:20260309T101357
LOCATION:Berlin\, Germany
ORGANIZER:mailto:booking@we-conect.com
SUMMARY:Autonomous Mobile Machines 2020
URL;VALUE=URI:https://ti.to/weconect/autonomous-systems-world-2020
URL;VALUE=URI:https://ti.to/weconect/autonomous-systems-world-2020
END:VEVENT
END:VCALENDAR
