BEGIN:VCALENDAR
VERSION:2.0
PRODID:icalendar-ruby
CALSCALE:GREGORIAN
BEGIN:VEVENT
DTSTAMP:20260421T220747Z
UID:NdWdwA
DTSTART;VALUE=DATE:20220928
DTEND;VALUE=DATE:20221001
CLASS:PUBLIC
CREATED:20210924T101917
DESCRIPTION: The Auto.AI is Europe’s first platform bringing together all
  stakeholders who play an active role in the deep driving\, computer visio
 n\, sensor fusion\, perception and cognitive vehicles scene. \n
LAST-MODIFIED:20260309T101357
LOCATION:Maritim proArte Hotel\, Berlin
ORGANIZER:mailto:booking@we-conect.com
SUMMARY:Auto.AI Europe 2022
URL;VALUE=URI:https://ti.to/weconect/auto-ai-2022
URL;VALUE=URI:https://ti.to/weconect/auto-ai-2022
END:VEVENT
END:VCALENDAR
