BEGIN:VCALENDAR
VERSION:2.0
PRODID:icalendar-ruby
CALSCALE:GREGORIAN
BEGIN:VEVENT
DTSTAMP:20260424T145514Z
UID:QDddUQ
DTSTART;VALUE=DATE:20140917
DTEND;VALUE=DATE:20140918
CLASS:PUBLIC
CREATED:20140828T092100
DESCRIPTION: Now in it's fifth year\, ESB Spark of Genius is a chance for 3
 0 of the most promising and high-potential Irish Startups to pitch in fron
 t of a distinguished panel of judges.  It’s a one-of-a-kind opportunity 
 for startups to put themselves front and centre at Web Summit and possibly
  win an amazing cash injection of €25\,000. The top 3 on the night will 
 proceed to the final at Web Summit.  \n\n Join us after the pitching ends 
 for networking and light refreshments.  \n\n Judges on the night include\;
  \nEamon Leonard\, Chief Community Officer + EiR Web Summit\; Niamh Bushne
 ll\, Dublin Commissioner for Startups\; John McKiernan\, Head of External 
 Collaboration ESB\; David O’Kelly Director Corporate Finance KPMG\; Bria
 n Caulfield\, Partner DFJ Esprit and Mary Moloney\, Global CEO CoderDojo F
 oundation \n
LAST-MODIFIED:20231212T102856
LOCATION:NDRC\, Digital Exchange Building\, Crane St\, Dublin 8
ORGANIZER:mailto:noreply-calendar@tito.io
SUMMARY:ESB Spark of Genius 2014
URL;VALUE=URI:https://ti.to/websummit/esb-spark-of-genius-2014
URL;VALUE=URI:https://ti.to/websummit/esb-spark-of-genius-2014
END:VEVENT
END:VCALENDAR
