BEGIN:VCALENDAR
VERSION:2.0
PRODID:icalendar-ruby
CALSCALE:GREGORIAN
BEGIN:VEVENT
DTSTAMP:20260425T002401Z
UID:JYEWEA
DTSTART;VALUE=DATE:20160621
DTEND;VALUE=DATE:20160623
CLASS:PUBLIC
CREATED:20160119T141343
LAST-MODIFIED:20161117T121614
LOCATION:Madrid\, Spain
ORGANIZER:mailto:tickets@moneyconf.com
SUMMARY:2016 MoneyConf
URL;VALUE=URI:https://ti.to/websummit/2016-moneyconf
URL;VALUE=URI:https://ti.to/websummit/2016-moneyconf
END:VEVENT
END:VCALENDAR
