BEGIN:VCALENDAR
VERSION:2.0
PRODID:icalendar-ruby
CALSCALE:GREGORIAN
BEGIN:VEVENT
DTSTAMP:20260420T082414Z
UID:WrNolQ
DTSTART;VALUE=DATE:20210822
DTEND;VALUE=DATE:20210823
CLASS:PUBLIC
CREATED:20210804T132531
DESCRIPTION: In Search of the Brumphalos\, a meander around Birmingham city
  centre attempting to locate the midpoint of this sprawling metropolis. Do
 es a city have a heart? A navel? A nucleus? How do you measure it? We'll b
 e considering these questions and visiting some of the contenders - some o
 bvious\, some less so. We'll be finishing up at the precise geometric cent
 re of the city as determined by science... and it may not be where you exp
 ect it to be. \n
LAST-MODIFIED:20210821T145146
LOCATION:Birmingham UK
ORGANIZER:mailto:walkspace@fastmail.com
SUMMARY:In Search of the Brumphalos
URL;VALUE=URI:https://ti.to/walkspace/in-search-of-the-brumphalos
URL;VALUE=URI:https://ti.to/walkspace/in-search-of-the-brumphalos
END:VEVENT
END:VCALENDAR
