BEGIN:VCALENDAR
VERSION:2.0
PRODID:icalendar-ruby
CALSCALE:GREGORIAN
BEGIN:VEVENT
DTSTAMP:20260422T102359Z
UID:4uyFjQ
DTSTART;VALUE=DATE:20200308
DTEND;VALUE=DATE:20200309
CLASS:PUBLIC
CREATED:20200227T193126
DESCRIPTION: After the success of Dark Moon Walking\, Stirchley moon walks 
 continue this March with a full moon walk on the evening of Sunday 8th Mar
 ch.   \n\n For this bewitching – if slightly scary – group walk\, we s
 hall follow a circular route around the waterways of Stirchley and Lifford
 . If it is a clear night there will be the chance to view some lunar-charg
 ed moon water ripe for rituals and spells. \n\n Please see below for the r
 oute we'll be taking \n\n This walk is not for the faint-hearted and will 
 only run if there are sufficient numbers. For that reason\, and for weathe
 r cancellations the day\, we ask you to sign up for the event in advance. 
 \n\n (Full moon is actually on the 9th but who's quibbling?) \n
LAST-MODIFIED:20200308T170005
LOCATION:Stirchley/Lifford\, Birmingham
ORGANIZER:mailto:fiona@fionacullinan.com
SUMMARY:Full Moon Walking
URL;VALUE=URI:https://ti.to/walkspace/full-moon-walking
URL;VALUE=URI:https://ti.to/walkspace/full-moon-walking
END:VEVENT
END:VCALENDAR
