BEGIN:VCALENDAR
VERSION:2.0
PRODID:icalendar-ruby
CALSCALE:GREGORIAN
BEGIN:VEVENT
DTSTAMP:20260422T085333Z
UID:zRk61Q
DTSTART;VALUE=DATE:20210921
DTEND;VALUE=DATE:20210922
CLASS:PUBLIC
CREATED:20210908T090638
DESCRIPTION: After the success of the first Walkspace Erratic last month\, 
 we're continuing this series of public walks with a visit to Solihull wher
 e Walkspace member ...kruse will be helping us to find balance. \n\n The e
 quinoxes are a time when the amount of sunlight and darkness in the day is
  equal. Can we use this time as an invitation to balance our own lives and
  find some equanimity to carry us through the long haul of winter towards 
 the Spring Equinox? \n
LAST-MODIFIED:20211119T182416
LOCATION:Birmingham UK
ORGANIZER:mailto:walkspace@fastmail.com
SUMMARY:Finding Balance - a walk for the Equinox
URL;VALUE=URI:https://ti.to/walkspace/finding-balance
URL;VALUE=URI:https://ti.to/walkspace/finding-balance
END:VEVENT
END:VCALENDAR
