BEGIN:VCALENDAR
VERSION:2.0
PRODID:icalendar-ruby
CALSCALE:GREGORIAN
BEGIN:VEVENT
DTSTAMP:20260420T102152Z
UID:WFJ2ew
DTSTART;VALUE=DATE:20211120
DTEND;VALUE=DATE:20211121
CLASS:PUBLIC
CREATED:20211103T220502
DESCRIPTION: Join us for the next Walkspace Erratic in leafy Bournville whe
 re we'll be discovering new ways to wander.  With winter coming\, and many
  of our local walking routes exhausted after several lockdowns\, this walk
  led by Katy Hawkins is an opportunity to learn and practice tactics for e
 nhancing our wandering and wellbeing. Tactics include: interacting with tr
 ees\, practicing texture curiosity\, drawing as meditation\, and using lan
 guage to notice more. Katy is also interested to hear methods of your own\
 , and hopes to bring together all tactics shared and gathered as part of a
 n illustrated booklet to be posted back out to contributors. \n
LAST-MODIFIED:20211117T101218
LOCATION:Birmingham UK
ORGANIZER:mailto:walkspace@fastmail.com
SUMMARY:Enhanced Wandering\, a walk for creativity and wellbeing
URL;VALUE=URI:https://ti.to/walkspace/enhanced-wandering
URL;VALUE=URI:https://ti.to/walkspace/enhanced-wandering
END:VEVENT
END:VCALENDAR
